BEGIN:VCALENDAR
VERSION:2.0
PRODID:icalendar-ruby
CALSCALE:GREGORIAN
METHOD:PUBLISH
BEGIN:VEVENT
DTSTAMP:20260424T122105Z
UID:15-646447@stmarksstgeorge.ca
DTSTART:20260804T180000Z
DTEND:20260804T190000Z
CLASS:PUBLIC
CREATED:20260424T075620
DESCRIPTION:SMART  Recovery for Family and Friends is a FREE science-based
  program for people impacted by the addictive behaviour of someone close t
 o them. Our skills-based\, solutions-oriented approach offers helpful peer
  support to help you discover how you can encourage your Loved One to choo
 se recovery.
LAST-MODIFIED:20260424T075620
LOCATION:28 Main St. St. George\, New Brunswick
SUMMARY:SMART RECOVERY Meeting for Family and Friends
URL;VALUE=URI:https://www.stmarksstgeorge.ca/events/smart-recovery-meeting-
 for-family-and-friends/2026-08-04
END:VEVENT
END:VCALENDAR
